BEGIN:VCALENDAR
VERSION:2.0
PRODID:-//Kesmonds International University | Cameroon Campus - ECPv6.15.20//NONSGML v1.0//EN
CALSCALE:GREGORIAN
METHOD:PUBLISH
X-WR-CALNAME:Kesmonds International University | Cameroon Campus
X-ORIGINAL-URL:https://kesmonds.edu.cm
X-WR-CALDESC:Events for Kesmonds International University | Cameroon Campus
REFRESH-INTERVAL;VALUE=DURATION:PT1H
X-Robots-Tag:noindex
X-PUBLISHED-TTL:PT1H
BEGIN:VTIMEZONE
TZID:UTC
BEGIN:STANDARD
TZOFFSETFROM:+0000
TZOFFSETTO:+0000
TZNAME:UTC
DTSTART:20200101T000000
END:STANDARD
END:VTIMEZONE
BEGIN:VEVENT
DTSTART;VALUE=DATE:20210601
DTEND;VALUE=DATE:20210602
DTSTAMP:20260422T103534
CREATED:20210427T062539Z
LAST-MODIFIED:20210427T062539Z
UID:10000002-1622505600-1622591999@kesmonds.edu.cm
SUMMARY:Class of 2021 Graduation Convocation
DESCRIPTION:Class of 2021 Graduation Convocation in Somalia … 1st June 2021.
URL:https://kesmonds.edu.cm/events/class-of-2021-graduation-convocation/
ATTACH;FMTTYPE=image/jpeg:https://kesmonds.edu.cm/wp-content/uploads/2021/04/Somalia-class-of-2021-grad-convo-10.jpg
END:VEVENT
END:VCALENDAR