BEGIN:VCALENDAR
VERSION:2.0
PRODID:-//Kesmonds International University | Cameroon Campus - ECPv6.15.20//NONSGML v1.0//EN
CALSCALE:GREGORIAN
METHOD:PUBLISH
X-WR-CALNAME:Kesmonds International University | Cameroon Campus
X-ORIGINAL-URL:https://kesmonds.edu.cm
X-WR-CALDESC:Events for Kesmonds International University | Cameroon Campus
REFRESH-INTERVAL;VALUE=DURATION:PT1H
X-Robots-Tag:noindex
X-PUBLISHED-TTL:PT1H
BEGIN:VTIMEZONE
TZID:UTC
BEGIN:STANDARD
TZOFFSETFROM:+0000
TZOFFSETTO:+0000
TZNAME:UTC
DTSTART:20250101T000000
END:STANDARD
END:VTIMEZONE
BEGIN:VTIMEZONE
TZID:Europe/Moscow
BEGIN:STANDARD
TZOFFSETFROM:+0300
TZOFFSETTO:+0300
TZNAME:MSK
DTSTART:20250101T000000
END:STANDARD
END:VTIMEZONE
BEGIN:VEVENT
DTSTART;VALUE=DATE:20260330
DTEND;VALUE=DATE:20260401
DTSTAMP:20260422T012652
CREATED:20251025T072237Z
LAST-MODIFIED:20251025T073312Z
UID:10000223-1774828800-1775001599@kesmonds.edu.cm
SUMMARY:Powering Africa’s future through talent development\, innovation and inclusion
DESCRIPTION:AFRICA UNIVERSITY SUMMIT \nDate: 30-31 March 2026\, Nairobi Kenya \nTheme: Powering Africa’s future through talent development\, innovation and inclusion. \nWith more than 400 million voices\, young people in Africa are dynamic and ambitious to succeed. The THE Africa Universities Summit 2026 will explore how to cascade and amplify regional growth and innovation across the continent by expanding its pool of human capital. We will explore unlocking skills potential\, increasing gender equality and creating innovative learning environments to unleash success academically and entrepreneurially. \nThe event will fuel regional dialogue about building growth through higher education\, with perspectives from and networking opportunities with leaders in higher education\, business and civil society. Join us in Nairobi for dynamic discussions\, hands-on workshops and visionary keynotes that will shape the future of African higher education. \nRegister: https://www.timeshighered-events.com/africa-universities-summit-2026/page/5173296/book-tickets?utm_source=email&utm_medium=cta&utm_campaign=register&spMailingID=32040433&spUserID=MTQ5NDE1NDg5MjU5NQS2&spJobID=2811502321&spReportId=MjgxMTUwMjMyMQS2
URL:https://kesmonds.edu.cm/events/powering-africas-future-through-talent-development-innovation-and-inclusion/
ATTACH;FMTTYPE=image/jpeg:https://kesmonds.edu.cm/wp-content/uploads/2025/10/t-08.51.46_b8398e8c.jpg
END:VEVENT
BEGIN:VEVENT
DTSTART;TZID=Europe/Moscow:20260331T150000
DTEND;TZID=Europe/Moscow:20260331T170000
DTSTAMP:20260422T012652
CREATED:20260330T092822Z
LAST-MODIFIED:20260330T093255Z
UID:10000226-1774969200-1774976400@kesmonds.edu.cm
SUMMARY:Webinar Alert: Advancing climate action and sustainable development goals
DESCRIPTION:A climate-conscious library is more than shelves; it is a living space where knowledge inspires action and communities grow together to protect the Earth that sustains us all. Be part of this webinar to learn more about how libraries can lead the way in building a sustainable future. \nAdvancing climate action and sustainable development goals: the transformative role of African libraries and information centres \nhttps://web.aflia.net/advancing-climate-action-and-sustainable-development-goals-the-transformative-role-of-african-libraries-and-information-centres/
URL:https://kesmonds.edu.cm/events/webinar-alert-advancing-climate-action-and-sustainable-development-goals/
ATTACH;FMTTYPE=image/jpeg:https://kesmonds.edu.cm/wp-content/uploads/2026/03/6-03-30-at-12.12.44.jpeg
END:VEVENT
BEGIN:VEVENT
DTSTART;VALUE=DATE:20260409
DTEND;VALUE=DATE:20260413
DTSTAMP:20260422T012652
CREATED:20250925T072036Z
LAST-MODIFIED:20250925T072036Z
UID:10000220-1775692800-1776038399@kesmonds.edu.cm
SUMMARY:Join us at CUGH2026 "The Future of Global Health"Health"
DESCRIPTION:We will address current and future threats to global health\,\nsustainable development\, and identify how global health can\nbe more impactful\, equitable\, and effective.\nIncludes 220+ speakers\, 500+ abstracts\, 45+ sessions\, 12+Includes 220+ speakers\, 500+ abstracts\, 45+ sessions\, 12+\nworkshops\, special sessions\, film festival\, and more!workshops\, special sessions\, film festival\, and more!\nSubmit your abstract\, panel\, or pre-conference workshop\nRegister for the conference (April 9–12\, 2026)\nBook your hotel early to secure a spot \nwww.CUGH2026.org \n 
URL:https://kesmonds.edu.cm/events/join-us-at-cugh2026-the-future-of-global-healthhealth/
ATTACH;FMTTYPE=image/png:https://kesmonds.edu.cm/wp-content/uploads/2025/09/event-ba.png
END:VEVENT
BEGIN:VEVENT
DTSTART;VALUE=DATE:20260615
DTEND;VALUE=DATE:20260618
DTSTAMP:20260422T012652
CREATED:20251025T063249Z
LAST-MODIFIED:20251025T063535Z
UID:10000221-1781481600-1781740799@kesmonds.edu.cm
SUMMARY:11th International Conference on Tourism & Leisure Studies\, Department of Tourism Management\, University of Patras\, Greece
DESCRIPTION:Dear Research Network Member\, \nWe are pleased to share with you the Call for Papers for the Eleventh International Conference on Tourism & Leisure Studies\, to be hosted by the Department of Tourism Management\, University of Patras\, Greece\, 15-17 June 2026. \nProgram\n2026 Special Focus:\nPathways to Resilience: Sustainable Practices in Tourism and Leisure \nAnnual Themes\nTheme 1: Changing Dimensions of Contemporary Tourism\nTheme 2: Changing Dimensions of Contemporary Leisure\nTheme 3: Tourism and Leisure Industries\nTheme 4: Critical Issues in Tourism and Leisure Studies \nRegister: https://cgscholar.com/cg_event/events/K26en/submit_a_proposal
URL:https://kesmonds.edu.cm/events/11th-international-conference-on-tourism-leisure-studies-department-of-tourism-management-university-of-patras-greece/
ATTACH;FMTTYPE=image/jpeg:https://kesmonds.edu.cm/wp-content/uploads/2025/10/08.42.03_4876e776.jpg
END:VEVENT
BEGIN:VEVENT
DTSTART;VALUE=DATE:20260622
DTEND;VALUE=DATE:20260626
DTSTAMP:20260422T012652
CREATED:20260205T111935Z
LAST-MODIFIED:20260205T111935Z
UID:10000225-1782086400-1782431999@kesmonds.edu.cm
SUMMARY:Showcase your institution’s global sustainability leadership at GSDC 2026
DESCRIPTION:Position your institution at the forefront of global sustainability by partnering with the Global Sustainable Development Congress\, taking place 22-25 June 2026 in Jakarta\, Indonesia. \nAs a partner or exhibitor\, your institution will benefit from targeted networking\, thought leadership opportunities and high-impact visibility – while promoting your research\, innovation and commitment to sustainability and the UN Sustainable Development Goals on a global stage.\nNow in its fifth year\, the GSDC brings together 5\,000+ delegates from over 100 countries\, with 500+ already registered and an increasing number of partners and exhibitors already confirmed.\nTo explore our partnership and exhibition opportunities\, request the GSDC 2026 partner pack and our team will be in touch. \n\n\n\n\n\n\n\n\n\n\n\n\n\n\n\n\n\n\n\n\n\n\n\n\n\n\n\n\n\n\n\n\nRequest the partner pack\n\n\n\n\n\n\n\n\n\n\n\n\n\n\n\n 
URL:https://kesmonds.edu.cm/events/showcase-your-institutions-global-sustainability-leadership-at-gsdc-2026/
LOCATION:Jakarta\, Indonesia\, Jakarta\, Indonesia\, Indonesia\, Indonesia
ATTACH;FMTTYPE=image/jpeg:https://kesmonds.edu.cm/wp-content/uploads/2026/02/unnamed.jpg
END:VEVENT
END:VCALENDAR