BEGIN:VCALENDAR
VERSION:2.0
PRODID:-//Kesmonds International University | Cameroon Campus - ECPv6.15.20//NONSGML v1.0//EN
CALSCALE:GREGORIAN
METHOD:PUBLISH
X-WR-CALNAME:Kesmonds International University | Cameroon Campus
X-ORIGINAL-URL:https://kesmonds.edu.cm
X-WR-CALDESC:Events for Kesmonds International University | Cameroon Campus
REFRESH-INTERVAL;VALUE=DURATION:PT1H
X-Robots-Tag:noindex
X-PUBLISHED-TTL:PT1H
BEGIN:VTIMEZONE
TZID:UTC
BEGIN:STANDARD
TZOFFSETFROM:+0000
TZOFFSETTO:+0000
TZNAME:UTC
DTSTART:20240101T000000
END:STANDARD
END:VTIMEZONE
BEGIN:VEVENT
DTSTART;VALUE=DATE:20251212
DTEND;VALUE=DATE:20251214
DTSTAMP:20260422T011737
CREATED:20251209T054157Z
LAST-MODIFIED:20251209T054337Z
UID:10000224-1765497600-1765670399@kesmonds.edu.cm
SUMMARY:Joint Conference & Graduation 2025: Education for Resilience & Sustainability
DESCRIPTION:Join us for the Joint Conference and Graduation Ceremony of Kesmonds International University and Green Hope University\, taking place from 12th to 13th December 2025. \nThis year’s theme\, “Education for Resilience & Sustainability: Shaping a New Generation of Entrepreneurs\,” highlights our shared commitment to equipping learners with the skills\, mindset\, and innovative capacity needed to thrive in a rapidly changing world. \nThis remarkable event will celebrate academic excellence\, showcase groundbreaking ideas\, and empower graduates to become leaders\, change-makers\, and entrepreneurs who will shape a sustainable future.
URL:https://kesmonds.edu.cm/events/joint-conference-graduation-2025-education-for-resilience-sustainability/
ATTACH;FMTTYPE=image/jpeg:https://kesmonds.edu.cm/wp-content/uploads/2025/12/t-12.29.56_4246c01e.jpg
END:VEVENT
END:VCALENDAR